BEGIN:VCALENDAR
VERSION:2.0
PRODID:-//http://www.ucmr.umu.se//NONSGML kigkonsult.se iCalcreator 2.29.29
 //
CALSCALE:GREGORIAN
METHOD:PUBLISH
UID:cb391b60-ea58-423a-a8fc-bff5db2d75a6
X-WR-CALNAME:JCal Pro Calendar
X-WR-CALDESC:Your online events calendar
X-WR-TIMEZONE:Europe/Stockholm
BEGIN:VTIMEZONE
TZID:Europe/Stockholm
BEGIN:STANDARD
TZNAME:CET
DTSTART:20251026T030000
TZOFFSETFROM:+0200
TZOFFSETTO:+0100
RDATE:20261025T030000
END:STANDARD
BEGIN:DAYLIGHT
TZNAME:CEST
DTSTART:20260329T020000
TZOFFSETFROM:+0100
TZOFFSETTO:+0200
RDATE:20270328T020000
END:DAYLIGHT
END:VTIMEZONE
BEGIN:VEVENT
UID:20211018T090000CEST-5894DTCBwZ@http://www.ucmr.umu.se/
DTSTAMP:20260423T025646Z
CATEGORIES:Events
DESCRIPTION:<p>Visit the homepage of the Symposium for more information\, p
 rogramme and registration details: <a href='http://www.cryonet2021.se/'></
 a><a href='http://www.cryonet2021.se/'>http://www.cryonet2021.se/</a></p>
 \n<ul>\n<li data-mce-word-list='1'>Deadline for abstract submission: <stro
 ng>31<sup>st</sup> August</strong>.</li>\n<li data-mce-word-list='1'>Deadl
 ine for registration (without submitting abstract): 30<sup>th</sup> Septem
 ber. <strong>Registration is free but mandatory to get access to the platf
 orm.</strong></li>\n</ul>\n<p>The 4th Annual CryoNET Symposium will throug
 h a panel of distinguished speakers highlight the latest discoveries facil
 itated by cryo-EM research and new directions that are emerging. The sympo
 sium will be fully accessible as an online meeting but we will provide vie
 wing and presentation options in Umeå to the extent that the guidelines at
  the time allow (more info to follow). Students and postdocs are encourage
 d to apply to give talks.</p>
DTSTART;TZID=Europe/Stockholm:20211018T150000
DTEND;TZID=Europe/Stockholm:20211019T180000
SUMMARY:4th Annual CryoNET Symposium
URL:http://www.ucmr.umu.se/about-ucmr/events/162-ucmr-calendar/163-events/6
 08-4th-annual-cryonet-symposium.html
X-ALT-DESC;FMTTYPE=TEXT/HTML:<p>Visit the homepage of the Symposium for mor
 e information\, programme and registration details: <a href='http://www.cr
 yonet2021.se/'></a><a href='http://www.cryonet2021.se/'>http://www.cryonet
 2021.se/</a></p>\n<ul>\n<li data-mce-word-list='1'>Deadline for abstract s
 ubmission: <strong>31<sup>st</sup> August</strong>.</li>\n<li data-mce-wor
 d-list='1'>Deadline for registration (without submitting abstract): 30<sup
 >th</sup> September. <strong>Registration is free but mandatory to get acc
 ess to the platform.</strong></li>\n</ul>\n<p>The 4th Annual CryoNET Sympo
 sium will through a panel of distinguished speakers highlight the latest d
 iscoveries facilitated by cryo-EM research and new directions that are eme
 rging. The symposium will be fully accessible as an online meeting but we 
 will provide viewing and presentation options in Umeå to the extent that t
 he guidelines at the time allow (more info to follow). Students and postdo
 cs are encouraged to apply to give talks.</p>
END:VEVENT
END:VCALENDAR
