BEGIN:VCALENDAR
VERSION:2.0
PRODID:-//http://www.ucmr.umu.se//NONSGML kigkonsult.se iCalcreator 2.29.29
 //
CALSCALE:GREGORIAN
METHOD:PUBLISH
UID:b3b47147-d89f-4d27-a546-b19e6629ae5f
X-WR-CALNAME:JCal Pro Calendar
X-WR-CALDESC:Your online events calendar
X-WR-TIMEZONE:Europe/Stockholm
BEGIN:VTIMEZONE
TZID:Europe/Stockholm
BEGIN:STANDARD
TZNAME:CET
DTSTART:20251026T030000
TZOFFSETFROM:+0200
TZOFFSETTO:+0100
RDATE:20261025T030000
END:STANDARD
BEGIN:DAYLIGHT
TZNAME:CEST
DTSTART:20260329T020000
TZOFFSETFROM:+0100
TZOFFSETTO:+0200
RDATE:20270328T020000
END:DAYLIGHT
END:VTIMEZONE
BEGIN:VEVENT
UID:20180921T120000UTC-78c01e@http://www.ucmr.umu.se/
DTSTAMP:20260423T074003Z
CATEGORIES:Seminar
DESCRIPTION:<p>National and International Seminar Series - Autumn 2018</p>
 \n<p>Speaker:</p>\n<p><strong>Patricia Bassereau</strong><br />Institut Cu
 rie\, Paris\, France</p>\n<p>Title:<br /><strong>Mimicking cellular membra
 ne functions</strong></p>\n<p>Host: Marta Bally\, WCMM</p>\n<p>Place: Lect
 ure room E04<strong> (</strong>map: <a href='http://hitta.db.umu.se/hitta/
 js/map/smartphone.html?id=425' target='_blank' rel='noopener noreferrer'>h
 ttp://hitta.db.umu.se/hitta/js/map/smartphone.html?id=425</a>)</p>\n<p>Not
 e: Coffee/Tea is served outside lecture hall from 13:30<br /><em></em></p>
 \n<p><em>Coordinators of the Seminar Series: <span id='cloak8a023999478aae
 4763dbf6dfb677ef41'>This email address is being protected from spambots. Y
 ou need JavaScript enabled to view it.</span><script type='text/javascript
 '>
				document.getElementById('cloak8a023999478aae4763dbf6dfb677ef41').innerHT
 ML = ''\;
				var prefix = '&#109\;a' + 'i&#108\;' + '&#116\;o'\;
				var path = 'hr
 ' + 'ef' + '='\;
				var addy8a023999478aae4763dbf6dfb677ef41 = 'm&#97\;tt&#105
 \;&#97\;s.f&#111\;rs&#101\;ll' + '&#64\;'\;
				addy8a023999478aae4763dbf6dfb67
 7ef41 = addy8a023999478aae4763dbf6dfb677ef41 + '&#117\;m&#117\;' + '&#46\;
 ' + 's&#101\;'\;
				var addy_text8a023999478aae4763dbf6dfb677ef41 = 'm&#97\;tt
 &#105\;&#97\;s.f&#111\;rs&#101\;ll' + '&#64\;' + '&#117\;m&#117\;' + '&#46
 \;' + 's&#101\;'\;document.getElementById('cloak8a023999478aae4763dbf6dfb6
 77ef41').innerHTML += '<a ' + path + '\'' + prefix + ':' + addy8a023999478
 aae4763dbf6dfb677ef41 + '\'>'+addy_text8a023999478aae4763dbf6dfb677ef41+'<
 \/a>'\;
		</script> and <span id='cloakf9ba8892f0313c24f67448d3a869e052'>This
  email address is being protected from spambots. You need JavaScript enabl
 ed to view it.</span><script type='text/javascript'>
				document.getElementByI
 d('cloakf9ba8892f0313c24f67448d3a869e052').innerHTML = ''\;
				var prefix = '&
 #109\;a' + 'i&#108\;' + '&#116\;o'\;
				var path = 'hr' + 'ef' + '='\;
				var addy
 f9ba8892f0313c24f67448d3a869e052 = '&#97\;ndr&#101\;&#97\;.p&#117\;h&#97\;
 r' + '&#64\;'\;
				addyf9ba8892f0313c24f67448d3a869e052 = addyf9ba8892f0313c24
 f67448d3a869e052 + '&#117\;m&#117\;' + '&#46\;' + 's&#101\;'\;
				var addy_tex
 tf9ba8892f0313c24f67448d3a869e052 = '&#97\;ndr&#101\;&#97\;.p&#117\;h&#97\
 ;r' + '&#64\;' + '&#117\;m&#117\;' + '&#46\;' + 's&#101\;'\;document.getEl
 ementById('cloakf9ba8892f0313c24f67448d3a869e052').innerHTML += '<a ' + pa
 th + '\'' + prefix + ':' + addyf9ba8892f0313c24f67448d3a869e052 + '\'>'+ad
 dy_textf9ba8892f0313c24f67448d3a869e052+'<\/a>'\;
		</script></em></p>
DTSTART;TZID=Europe/Stockholm:20180921T140000
DTEND;TZID=Europe/Stockholm:20180921T150000
SUMMARY:Nat and Internat Seminar Series - Patricia Bassereau: Mimicking cel
 lular membrane functions
URL:http://www.ucmr.umu.se/about-ucmr/events/162-ucmr-calendar/164-seminar/
 539-nat-internat-seminar-bassereau.html
X-ALT-DESC;FMTTYPE=TEXT/HTML:<p>National and International Seminar Series -
  Autumn 2018</p>\n<p>Speaker:</p>\n<p><strong>Patricia Bassereau</strong><
 br />Institut Curie\, Paris\, France</p>\n<p>Title:<br /><strong>Mimicking
  cellular membrane functions</strong></p>\n<p>Host: Marta Bally\, WCMM</p>
 \n<p>Place: Lecture room E04<strong> (</strong>map: <a href='http://hitta.
 db.umu.se/hitta/js/map/smartphone.html?id=425' target='_blank' rel='noopen
 er noreferrer'>http://hitta.db.umu.se/hitta/js/map/smartphone.html?id=425<
 /a>)</p>\n<p>Note: Coffee/Tea is served outside lecture hall from 13:30<br
  /><em></em></p>\n<p><em>Coordinators of the Seminar Series: <span id='clo
 ak8a023999478aae4763dbf6dfb677ef41'>This email address is being protected 
 from spambots. You need JavaScript enabled to view it.</span><script type=
 'text/javascript'>
				document.getElementById('cloak8a023999478aae4763dbf6dfb6
 77ef41').innerHTML = ''\;
				var prefix = '&#109\;a' + 'i&#108\;' + '&#116\;o'
 \;
				var path = 'hr' + 'ef' + '='\;
				var addy8a023999478aae4763dbf6dfb677ef41 =
  'm&#97\;tt&#105\;&#97\;s.f&#111\;rs&#101\;ll' + '&#64\;'\;
				addy8a023999478
 aae4763dbf6dfb677ef41 = addy8a023999478aae4763dbf6dfb677ef41 + '&#117\;m&#
 117\;' + '&#46\;' + 's&#101\;'\;
				var addy_text8a023999478aae4763dbf6dfb677e
 f41 = 'm&#97\;tt&#105\;&#97\;s.f&#111\;rs&#101\;ll' + '&#64\;' + '&#117\;m
 &#117\;' + '&#46\;' + 's&#101\;'\;document.getElementById('cloak8a02399947
 8aae4763dbf6dfb677ef41').innerHTML += '<a ' + path + '\'' + prefix + ':' +
  addy8a023999478aae4763dbf6dfb677ef41 + '\'>'+addy_text8a023999478aae4763d
 bf6dfb677ef41+'<\/a>'\;
		</script> and <span id='cloakf9ba8892f0313c24f67448
 d3a869e052'>This email address is being protected from spambots. You need 
 JavaScript enabled to view it.</span><script type='text/javascript'>
				docume
 nt.getElementById('cloakf9ba8892f0313c24f67448d3a869e052').innerHTML = ''\
 ;
				var prefix = '&#109\;a' + 'i&#108\;' + '&#116\;o'\;
				var path = 'hr' + 'ef'
  + '='\;
				var addyf9ba8892f0313c24f67448d3a869e052 = '&#97\;ndr&#101\;&#97\;
 .p&#117\;h&#97\;r' + '&#64\;'\;
				addyf9ba8892f0313c24f67448d3a869e052 = addy
 f9ba8892f0313c24f67448d3a869e052 + '&#117\;m&#117\;' + '&#46\;' + 's&#101\
 ;'\;
				var addy_textf9ba8892f0313c24f67448d3a869e052 = '&#97\;ndr&#101\;&#97\
 ;.p&#117\;h&#97\;r' + '&#64\;' + '&#117\;m&#117\;' + '&#46\;' + 's&#101\;'
 \;document.getElementById('cloakf9ba8892f0313c24f67448d3a869e052').innerHT
 ML += '<a ' + path + '\'' + prefix + ':' + addyf9ba8892f0313c24f67448d3a86
 9e052 + '\'>'+addy_textf9ba8892f0313c24f67448d3a869e052+'<\/a>'\;
		</script>
 </em></p>
END:VEVENT
END:VCALENDAR
