BEGIN:VCALENDAR
VERSION:2.0
PRODID:-//http://www.ucmr.umu.se//NONSGML kigkonsult.se iCalcreator 2.29.29
 //
CALSCALE:GREGORIAN
METHOD:PUBLISH
UID:04a9b322-4b21-4e97-894b-0d0ad672deee
X-WR-CALNAME:JCal Pro Calendar
X-WR-CALDESC:Your online events calendar
X-WR-TIMEZONE:Europe/Stockholm
BEGIN:VTIMEZONE
TZID:Europe/Stockholm
BEGIN:STANDARD
TZNAME:CET
DTSTART:20251026T030000
TZOFFSETFROM:+0200
TZOFFSETTO:+0100
RDATE:20261025T030000
END:STANDARD
BEGIN:DAYLIGHT
TZNAME:CEST
DTSTART:20260329T020000
TZOFFSETFROM:+0100
TZOFFSETTO:+0200
RDATE:20270328T020000
END:DAYLIGHT
END:VTIMEZONE
BEGIN:VEVENT
UID:20150323T090000UTC-bc4c6f@http://www.ucmr.umu.se/
DTSTAMP:20260423T093715Z
CATEGORIES:Seminar
DESCRIPTION:<p>Medical Biochemistry and Biophysics seminar:<br /> <br /> Tu
 esday 24 March 15.15 KB3A9 Lilla hörsalen\, KBC<br /> Department of Medica
 l Biochemistry and Biophysics Seminar Series<br /> <br /> Speaker:<br /> <
 strong>Hans Spelbrink</strong><br /> Radboud University Medical Centre\, N
 ijmegen\, The Netherlands.<br /> <br /> Title:<strong> Nucleoids and nucle
 oid associated proteins</strong><br /> <br /> Host: Sjoerd Wanrooij\, Medi
 cal Biochemistry and Biophysics<br /> <br /> Room: Lilla hörsalen\, KB3A9<
 /p>
DTSTART;TZID=Europe/Stockholm:20150323T100000
DTEND;TZID=Europe/Stockholm:20150323T110000
SUMMARY:Seminar - Hans Spelbrink: Nucleoids And Nucleoid Associated Protein
 s
URL:http://www.ucmr.umu.se/about-ucmr/events/162-ucmr-calendar/164-seminar/
 393-seminar-hans-spelbrink-nucleoids-and-nucleoid-associated-proteins.html
X-ALT-DESC;FMTTYPE=TEXT/HTML:<p>Medical Biochemistry and Biophysics seminar
 :<br /> <br /> Tuesday 24 March 15.15 KB3A9 Lilla hörsalen\, KBC<br /> Dep
 artment of Medical Biochemistry and Biophysics Seminar Series<br /> <br />
  Speaker:<br /> <strong>Hans Spelbrink</strong><br /> Radboud University M
 edical Centre\, Nijmegen\, The Netherlands.<br /> <br /> Title:<strong> Nu
 cleoids and nucleoid associated proteins</strong><br /> <br /> Host: Sjoer
 d Wanrooij\, Medical Biochemistry and Biophysics<br /> <br /> Room: Lilla 
 hörsalen\, KB3A9</p>
END:VEVENT
BEGIN:VEVENT
UID:20150323T141500UTC-8161da@http://www.ucmr.umu.se/
DTSTAMP:20260423T093715Z
CATEGORIES:Seminar
DESCRIPTION:<p>Department of Medical Biochemistry and Biophysics</p>\n<p>Ex
 tra Seminar</p>\n<p>Speaker:</p>\n<p><strong>Kerstin Lindblad-Toh</strong>
 <br />Broad Institute of MIT and Harvard\, Cambridge\, Massachusetts\, Uni
 ted States of America<br />Science for Life Laboratory\, Dept. of Medical 
 Biochemistry and Microbiology\, Uppsala University\, Uppsala\, Sweden</p>
 \n<p>Title: <br />Studying human disease and vertebrate evolution using co
 mparative genetics and genomics.<br /><br />Room Lilla hörsalen\, KB3A9\, 
 KBC<br />Host: Erik Johansson\, Medchem</p>
DTSTART;TZID=Europe/Stockholm:20150323T151500
DTEND;TZID=Europe/Stockholm:20150323T161500
SUMMARY:CANCELLED!- Kerstin Lindblad-Toh: Studying human disease and verteb
 rate evolution using comparative genetics and genomics
URL:http://www.ucmr.umu.se/about-ucmr/events/162-ucmr-calendar/164-seminar/
 391-extra-seminar-kerstin-lindblad-toh-studying-human-disease-and-vertebra
 te-evolution-using-comparative-genetics-and-genomics.html
X-ALT-DESC;FMTTYPE=TEXT/HTML:<p>Department of Medical Biochemistry and Biop
 hysics</p>\n<p>Extra Seminar</p>\n<p>Speaker:</p>\n<p><strong>Kerstin Lind
 blad-Toh</strong><br />Broad Institute of MIT and Harvard\, Cambridge\, Ma
 ssachusetts\, United States of America<br />Science for Life Laboratory\, 
 Dept. of Medical Biochemistry and Microbiology\, Uppsala University\, Upps
 ala\, Sweden</p>\n<p>Title: <br />Studying human disease and vertebrate ev
 olution using comparative genetics and genomics.<br /><br />Room Lilla hör
 salen\, KB3A9\, KBC<br />Host: Erik Johansson\, Medchem</p>
END:VEVENT
END:VCALENDAR
