BEGIN:VCALENDAR
VERSION:2.0
PRODID:-//http://www.ucmr.umu.se//NONSGML kigkonsult.se iCalcreator 2.29.29
 //
CALSCALE:GREGORIAN
METHOD:PUBLISH
UID:cd320fc2-bdd8-44c8-9af3-9a5c31f173e7
X-WR-CALNAME:JCal Pro Calendar
X-WR-CALDESC:Your online events calendar
X-WR-TIMEZONE:Europe/Stockholm
BEGIN:VTIMEZONE
TZID:Europe/Stockholm
BEGIN:STANDARD
TZNAME:CET
DTSTART:20251026T030000
TZOFFSETFROM:+0200
TZOFFSETTO:+0100
RDATE:20261025T030000
END:STANDARD
BEGIN:DAYLIGHT
TZNAME:CEST
DTSTART:20260329T020000
TZOFFSETFROM:+0100
TZOFFSETTO:+0200
RDATE:20270328T020000
END:DAYLIGHT
END:VTIMEZONE
BEGIN:VEVENT
UID:20150320T140000UTC-c3735b@http://www.ucmr.umu.se/
DTSTAMP:20260423T150512Z
CATEGORIES:Seminar
DESCRIPTION:<p>National and International Seminar Series 2015</p>\n<p>Speak
 er:</p>\n<p>Rolf OhlssonKarolinska Institute\, Stockholm</p>\n<p>Title<br 
 />Transcriptional coordination and the loss of it in cancer: New insights 
 in the role of higher order chromatin structures</p>\n<p>Room: Betula\, bl
 dg 6M\, NUS Campus</p>\n<p>Host: Jan Larsson\, Molbiol</p>
DTSTART;TZID=Europe/Stockholm:20150320T150000
DTEND;TZID=Europe/Stockholm:20150320T160000
SUMMARY:Nat. and Internat Seminar Series - Rolf Ohlsson:Transcriptional coo
 rdination and the loss of it in cancer: New insights in the role of higher
  order chromatin structures
URL:http://www.ucmr.umu.se/about-ucmr/events/162-ucmr-calendar/164-seminar/
 388-nat-and-internat-seminar-series-rolf-ohlsson-transcriptional-coordinat
 ion-and-the-loss-of-it-in-cancer-new-insights-in-the-role-of-higher-order-
 chromatin-structures.html
X-ALT-DESC;FMTTYPE=TEXT/HTML:<p>National and International Seminar Series 2
 015</p>\n<p>Speaker:</p>\n<p>Rolf OhlssonKarolinska Institute\, Stockholm<
 /p>\n<p>Title<br />Transcriptional coordination and the loss of it in canc
 er: New insights in the role of higher order chromatin structures</p>\n<p>
 Room: Betula\, bldg 6M\, NUS Campus</p>\n<p>Host: Jan Larsson\, Molbiol</p
 >
END:VEVENT
END:VCALENDAR
