BEGIN:VCALENDAR
VERSION:2.0
PRODID:-//http://www.ucmr.umu.se//NONSGML kigkonsult.se iCalcreator 2.29.29
 //
CALSCALE:GREGORIAN
METHOD:PUBLISH
UID:bc672bf5-f366-41d1-958a-13fa478e5aab
X-WR-CALNAME:JCal Pro Calendar
X-WR-CALDESC:Your online events calendar
X-WR-TIMEZONE:Europe/Stockholm
BEGIN:VTIMEZONE
TZID:Europe/Stockholm
BEGIN:STANDARD
TZNAME:CET
DTSTART:20251026T030000
TZOFFSETFROM:+0200
TZOFFSETTO:+0100
RDATE:20261025T030000
END:STANDARD
BEGIN:DAYLIGHT
TZNAME:CEST
DTSTART:20260329T020000
TZOFFSETFROM:+0100
TZOFFSETTO:+0200
RDATE:20270328T020000
END:DAYLIGHT
END:VTIMEZONE
BEGIN:VEVENT
UID:20150226T083000UTC-8c5d6a@http://www.ucmr.umu.se/
DTSTAMP:20260424T230930Z
CATEGORIES:Events
DESCRIPTION:<p style='text-align: center\;'><strong>Future faculty invites 
 young scientists that hold a PhD to a workshop in </strong></p>\n<p style=
 'text-align: center\;'><strong>Leadership in Academy </strong></p>\n<p sty
 le='text-align: center\;'><strong>aimed towards young researchers (PhDs) w
 ith a group or with the intention to start a group in the future</strong><
 /p>\n<p> </p>\n<p>As if it is not enough to get funded and publish well to
  get a shot at a permanent research position – you also need to be a good 
 leader when you finally get the chance. Your scientific production is depe
 ndent on your research group and if the group runs into trouble leadership
  is needed. Leadership in the academic setting is something all of us have
  been exposed to but very few have formal training in. Do you need to be a
  “born leader” to manage or are there strategies that we can adopt and bec
 ome a “leader”? What are the pitfalls? What advice can we get? This worksh
 op aims at discussing leadership in the specific academic setting. Welcome
  to an interesting workshop together with some people that have taken the 
 big leap to manage a group of their own. </p>\n<p>Program:</p>\n<p>9.30-10
 .15 Markus Hällgren ”Managing academic projects: a contradiction in terms?
 ”</p>\n<p>10.15-10.45 Lena Gunhaga “Flexible leadership”</p>\n<p>10.45-11.
 15 Andrei Chabes “Different styles of Leadership in Academy” 11.15-11.30 D
 iscussion With Coffee and Sandwiches</p>\n<p>Room E04\, lecture hall.</p>
 \n<p><strong>Welcome!</strong></p>\n<p>Please register to <span id='cloak3
 6ac0592dba66e772bffe3f702759ee7'>This email address is being protected fro
 m spambots. You need JavaScript enabled to view it.</span><script type='te
 xt/javascript'>
				document.getElementById('cloak36ac0592dba66e772bffe3f702759
 ee7').innerHTML = ''\;
				var prefix = '&#109\;a' + 'i&#108\;' + '&#116\;o'\;
				v
 ar path = 'hr' + 'ef' + '='\;
				var addy36ac0592dba66e772bffe3f702759ee7 = 'f
 &#117\;t&#117\;r&#101\;f&#97\;c&#117\;lty' + '&#64\;'\;
				addy36ac0592dba66e7
 72bffe3f702759ee7 = addy36ac0592dba66e772bffe3f702759ee7 + '&#117\;m&#117\
 ;' + '&#46\;' + 's&#101\;'\;
				var addy_text36ac0592dba66e772bffe3f702759ee7 
 = 'f&#117\;t&#117\;r&#101\;f&#97\;c&#117\;lty' + '&#64\;' + '&#117\;m&#117
 \;' + '&#46\;' + 's&#101\;'\;document.getElementById('cloak36ac0592dba66e7
 72bffe3f702759ee7').innerHTML += '<a ' + path + '\'' + prefix + ':' + addy
 36ac0592dba66e772bffe3f702759ee7 + '\'>'+addy_text36ac0592dba66e772bffe3f7
 02759ee7+'<\/a>'\;
		</script> by <strong>19th of February</strong>. No-shows
  will be charged for actual food costs.</p>\n<p><em>Future faculty is a sp
 ecial interest organization for young PhD scientists actively involved in 
 research but without a permanent position at the Faculty of Medicine. Futu
 re faculty supports junior scientists by spreading information within care
 er related field of interests but should also facilitate junior scientist 
 networking within and outside our own faculty and Umeå University.</em></p
 >
DTSTART;TZID=Europe/Stockholm:20150226T093000
DTEND;TZID=Europe/Stockholm:20150226T113000
SUMMARY:Future Faculty invites - Leadership in Academy
URL:http://www.ucmr.umu.se/about-ucmr/events/162-ucmr-calendar/163-events/3
 87-future-faculty-invites-leadership-in-academy.html
X-ALT-DESC;FMTTYPE=TEXT/HTML:<p style='text-align: center\;'><strong>Future
  faculty invites young scientists that hold a PhD to a workshop in </stron
 g></p>\n<p style='text-align: center\;'><strong>Leadership in Academy </st
 rong></p>\n<p style='text-align: center\;'><strong>aimed towards young res
 earchers (PhDs) with a group or with the intention to start a group in the
  future</strong></p>\n<p> </p>\n<p>As if it is not enough to get funded an
 d publish well to get a shot at a permanent research position – you also n
 eed to be a good leader when you finally get the chance. Your scientific p
 roduction is dependent on your research group and if the group runs into t
 rouble leadership is needed. Leadership in the academic setting is somethi
 ng all of us have been exposed to but very few have formal training in. Do
  you need to be a “born leader” to manage or are there strategies that we 
 can adopt and become a “leader”? What are the pitfalls? What advice can we
  get? This workshop aims at discussing leadership in the specific academic
  setting. Welcome to an interesting workshop together with some people tha
 t have taken the big leap to manage a group of their own. </p>\n<p>Program
 :</p>\n<p>9.30-10.15 Markus Hällgren ”Managing academic projects: a contra
 diction in terms?”</p>\n<p>10.15-10.45 Lena Gunhaga “Flexible leadership”<
 /p>\n<p>10.45-11.15 Andrei Chabes “Different styles of Leadership in Acade
 my” 11.15-11.30 Discussion With Coffee and Sandwiches</p>\n<p>Room E04\, l
 ecture hall.</p>\n<p><strong>Welcome!</strong></p>\n<p>Please register to 
 <span id='cloak36ac0592dba66e772bffe3f702759ee7'>This email address is bei
 ng protected from spambots. You need JavaScript enabled to view it.</span>
 <script type='text/javascript'>
				document.getElementById('cloak36ac0592dba66
 e772bffe3f702759ee7').innerHTML = ''\;
				var prefix = '&#109\;a' + 'i&#108\;'
  + '&#116\;o'\;
				var path = 'hr' + 'ef' + '='\;
				var addy36ac0592dba66e772bffe
 3f702759ee7 = 'f&#117\;t&#117\;r&#101\;f&#97\;c&#117\;lty' + '&#64\;'\;
				add
 y36ac0592dba66e772bffe3f702759ee7 = addy36ac0592dba66e772bffe3f702759ee7 +
  '&#117\;m&#117\;' + '&#46\;' + 's&#101\;'\;
				var addy_text36ac0592dba66e772
 bffe3f702759ee7 = 'f&#117\;t&#117\;r&#101\;f&#97\;c&#117\;lty' + '&#64\;' 
 + '&#117\;m&#117\;' + '&#46\;' + 's&#101\;'\;document.getElementById('cloa
 k36ac0592dba66e772bffe3f702759ee7').innerHTML += '<a ' + path + '\'' + pre
 fix + ':' + addy36ac0592dba66e772bffe3f702759ee7 + '\'>'+addy_text36ac0592
 dba66e772bffe3f702759ee7+'<\/a>'\;
		</script> by <strong>19th of February</s
 trong>. No-shows will be charged for actual food costs.</p>\n<p><em>Future
  faculty is a special interest organization for young PhD scientists activ
 ely involved in research but without a permanent position at the Faculty o
 f Medicine. Future faculty supports junior scientists by spreading informa
 tion within career related field of interests but should also facilitate j
 unior scientist networking within and outside our own faculty and Umeå Uni
 versity.</em></p>
END:VEVENT
END:VCALENDAR
