BEGIN:VCALENDAR
VERSION:2.0
PRODID:-//http://www.ucmr.umu.se//NONSGML kigkonsult.se iCalcreator 2.29.29
 //
CALSCALE:GREGORIAN
METHOD:PUBLISH
UID:932895fe-6640-4a52-b02d-fdd475dc7455
X-WR-CALNAME:JCal Pro Calendar
X-WR-CALDESC:Your online events calendar
X-WR-TIMEZONE:Europe/Stockholm
BEGIN:VTIMEZONE
TZID:Europe/Stockholm
BEGIN:STANDARD
TZNAME:CET
DTSTART:20251026T030000
TZOFFSETFROM:+0200
TZOFFSETTO:+0100
RDATE:20261025T030000
END:STANDARD
BEGIN:DAYLIGHT
TZNAME:CEST
DTSTART:20260329T020000
TZOFFSETFROM:+0100
TZOFFSETTO:+0200
RDATE:20270328T020000
END:DAYLIGHT
END:VTIMEZONE
BEGIN:VEVENT
UID:c532203ad227c624ab12648cc3e29c64
DTSTAMP:20260419T202729Z
CATEGORIES:Events
DESCRIPTION:Title: Identification of new virulence factors in <em>Francisel
 la tularensis</em><br />Faculty opponent: Professor <strong>Elisabeth Carn
 iel<br /></strong>Institut Pasteur\, Yersinia Research Unit\, Paris\, Fran
 ce<br /><br />Supervisor: Åke Forsberg\, Department of Molecular Biology<b
 r />Place: Major Groove\, Bld 6L
DTSTART;TZID=Europe/Stockholm:20100212T100000
DTEND;TZID=Europe/Stockholm:20100212T120000
SUMMARY:Thesis defense: Anna-Lena Forslund
URL:http://www.ucmr.umu.se/about-ucmr/events/162-ucmr-calendar/163-events/2
 3-thesis-defense-anna-lena-forslund.html
X-ALT-DESC;FMTTYPE=TEXT/HTML:Title: Identification of new virulence factors
  in <em>Francisella tularensis</em><br />Faculty opponent: Professor <stro
 ng>Elisabeth Carniel<br /></strong>Institut Pasteur\, Yersinia Research Un
 it\, Paris\, France<br /><br />Supervisor: Åke Forsberg\, Department of Mo
 lecular Biology<br />Place: Major Groove\, Bld 6L
END:VEVENT
BEGIN:VEVENT
UID:3c20c8c230f7c166a3d1139af8173972
DTSTAMP:20260419T202729Z
CATEGORIES:Seminar
DESCRIPTION:National and International Seminar Series Spring 2010 <br /><st
 rong>Talk by</strong>: Elisabeth Carniel. Institute Pasteur\, France<br />
 <strong>Title:</strong> “Yersinia pestis or how an enteropathogen became t
 he plague agent” <br />Time:                 Friday 12 February 2010 at 14
 30<br />Place:                 Lecture hall Betula\, Blgd 6M <br />Host:  
                 Åke Forsberg\, MolBiol
DTSTART;TZID=Europe/Stockholm:20100212T143000
DTEND;TZID=Europe/Stockholm:20100212T153000
SUMMARY:Elisabeth Carniel - Yersinia pestis or how an enteropathogen became
  the plague agent
URL:http://www.ucmr.umu.se/about-ucmr/events/162-ucmr-calendar/164-seminar/
 24-elisabeth-carniel-yersinia-pestis-or-how-an-enteropathogen-became-the-p
 lague-agent.html
X-ALT-DESC;FMTTYPE=TEXT/HTML:National and International Seminar Series Spri
 ng 2010 <br /><strong>Talk by</strong>: Elisabeth Carniel. Institute Paste
 ur\, France<br /><strong>Title:</strong> “Yersinia pestis or how an entero
 pathogen became the plague agent” <br />Time:                 Friday 12 Fe
 bruary 2010 at 1430<br />Place:                 Lecture hall Betula\, Blgd
  6M <br />Host:                  Åke Forsberg\, MolBiol
END:VEVENT
END:VCALENDAR
