BEGIN:VCALENDAR
VERSION:2.0
PRODID:-//http://www.ucmr.umu.se//NONSGML kigkonsult.se iCalcreator 2.29.29
 //
CALSCALE:GREGORIAN
METHOD:PUBLISH
UID:ac2779ae-eaf1-4612-ab44-b1af17572f9f
X-WR-CALNAME:JCal Pro Calendar
X-WR-CALDESC:Your online events calendar
X-WR-TIMEZONE:Europe/Stockholm
BEGIN:VTIMEZONE
TZID:Europe/Stockholm
BEGIN:STANDARD
TZNAME:CET
DTSTART:20251026T030000
TZOFFSETFROM:+0200
TZOFFSETTO:+0100
RDATE:20261025T030000
END:STANDARD
BEGIN:DAYLIGHT
TZNAME:CEST
DTSTART:20260329T020000
TZOFFSETFROM:+0100
TZOFFSETTO:+0200
RDATE:20270328T020000
END:DAYLIGHT
END:VTIMEZONE
BEGIN:VEVENT
UID:1432d6b3fd933b0e8232e575bf928c3f
DTSTAMP:20260421T070509Z
CATEGORIES:Events
DESCRIPTION:The UCMR Day program provides a meeting forum for interdiscipli
 nary scientific discussions that will promote communication between chemis
 ts and biologists on theory\, methodology\, design of experiments and data
  analyses.<br />More information <a href='Organization/UCMR-Day/index.html
 '>here</a>
DTSTART;TZID=Europe/Stockholm:20100121T000000
DTEND;TZID=Europe/Stockholm:20100121T235959
SUMMARY:UCMR Day
URL:http://www.ucmr.umu.se/about-ucmr/events/162-ucmr-calendar/163-events/2
 2-ucmr-day.html
X-ALT-DESC;FMTTYPE=TEXT/HTML:The UCMR Day program provides a meeting forum 
 for interdisciplinary scientific discussions that will promote communicati
 on between chemists and biologists on theory\, methodology\, design of exp
 eriments and data analyses.<br />More information <a href='Organization/UC
 MR-Day/index.html'>here</a>
END:VEVENT
END:VCALENDAR
