BEGIN:VCALENDAR
VERSION:2.0
PRODID:-//http://www.ucmr.umu.se//NONSGML kigkonsult.se iCalcreator 2.29.29
 //
CALSCALE:GREGORIAN
METHOD:PUBLISH
UID:f8a6a0ab-2808-447c-a202-cfb3432b1dfb
X-WR-CALNAME:JCal Pro Calendar
X-WR-CALDESC:Your online events calendar
X-WR-TIMEZONE:Europe/Stockholm
BEGIN:VTIMEZONE
TZID:Europe/Stockholm
BEGIN:STANDARD
TZNAME:CET
DTSTART:20251026T030000
TZOFFSETFROM:+0200
TZOFFSETTO:+0100
RDATE:20261025T030000
END:STANDARD
BEGIN:DAYLIGHT
TZNAME:CEST
DTSTART:20260329T020000
TZOFFSETFROM:+0100
TZOFFSETTO:+0200
RDATE:20270328T020000
END:DAYLIGHT
END:VTIMEZONE
BEGIN:VEVENT
UID:630581f84bfc4ff64d8296d28e695cd3
DTSTAMP:20260425T152040Z
CATEGORIES:Seminar
DESCRIPTION:Nobel Prize Laureate in Chemistry Ada Yonath is visiting Umeå U
 niversity and KBC.<br />Title of her talk:<br />The amazing ribosome<br />
 <br />Place: Aula Nordica<br />
DTSTART;TZID=Europe/Stockholm:20091216T150000
DTEND;TZID=Europe/Stockholm:20091216T160000
SUMMARY:Nobel laureate Ada Yonath: The amaying ribosome
URL:http://www.ucmr.umu.se/about-ucmr/events/162-ucmr-calendar/164-seminar/
 20-nobel-laureate-ada-yonath-the-amaying-ribosome.html
X-ALT-DESC;FMTTYPE=TEXT/HTML:Nobel Prize Laureate in Chemistry Ada Yonath i
 s visiting Umeå University and KBC.<br />Title of her talk:<br />The amazi
 ng ribosome<br /><br />Place: Aula Nordica<br />
END:VEVENT
BEGIN:VEVENT
UID:6a7d32a1dd2548d0e1c4a6708599fc91
DTSTAMP:20260425T152040Z
CATEGORIES:Seminar
DESCRIPTION:Nobel Prize Laureate in Chemistry Ada Yonath is visiting Umeå U
 niversity and KBC.<br />Title of her talk:<br />The amazing ribosome<br />
 <br />Place: Aula Nordica<br />
DTSTART;TZID=Europe/Stockholm:20091216T150000
DTEND;TZID=Europe/Stockholm:20091216T160000
SUMMARY:Nobel laureate Ada Yonath: The amaying ribosome
URL:http://www.ucmr.umu.se/about-ucmr/events/162-ucmr-calendar/164-seminar/
 21-nobel-laureate-ada-yonath-the-amaying-ribosome.html
X-ALT-DESC;FMTTYPE=TEXT/HTML:Nobel Prize Laureate in Chemistry Ada Yonath i
 s visiting Umeå University and KBC.<br />Title of her talk:<br />The amazi
 ng ribosome<br /><br />Place: Aula Nordica<br />
END:VEVENT
END:VCALENDAR
