BEGIN:VCALENDAR
VERSION:2.0
PRODID:-//http://www.ucmr.umu.se//NONSGML kigkonsult.se iCalcreator 2.29.29
 //
CALSCALE:GREGORIAN
METHOD:PUBLISH
UID:5919c200-6db7-4c59-bf41-4a762022b4a6
X-WR-CALNAME:JCal Pro Calendar
X-WR-CALDESC:Your online events calendar
X-WR-TIMEZONE:Europe/Stockholm
BEGIN:VTIMEZONE
TZID:Europe/Stockholm
BEGIN:STANDARD
TZNAME:CET
DTSTART:20251026T030000
TZOFFSETFROM:+0200
TZOFFSETTO:+0100
RDATE:20261025T030000
END:STANDARD
BEGIN:DAYLIGHT
TZNAME:CEST
DTSTART:20260329T020000
TZOFFSETFROM:+0100
TZOFFSETTO:+0200
RDATE:20270328T020000
END:DAYLIGHT
END:VTIMEZONE
BEGIN:VEVENT
UID:f5a938a63ab00eed6d856a0e8128c5a9
DTSTAMP:20260425T224630Z
CATEGORIES:Seminar
DESCRIPTION:talk by:<br /><strong>Sara Wilson</strong><br />UCMM\, Umeå<br 
 /><br />place: Lecture hall Betula\, Building 6M
DTSTART;TZID=Europe/Stockholm:20091211T143000
DTEND;TZID=Europe/Stockholm:20091211T153000
SUMMARY:Embryonic Development of Neural Connectivity: Guidance of Sensory N
 eurons in the Spinal Cord
URL:http://www.ucmr.umu.se/about-ucmr/events/162-ucmr-calendar/164-seminar/
 18-embryonic-development-of-neural-connectivity-guidance-of-sensory-neuron
 s-in-the-spinal-cord.html
X-ALT-DESC;FMTTYPE=TEXT/HTML:talk by:<br /><strong>Sara Wilson</strong><br 
 />UCMM\, Umeå<br /><br />place: Lecture hall Betula\, Building 6M
END:VEVENT
END:VCALENDAR
