BEGIN:VCALENDAR
VERSION:2.0
PRODID:-//http://www.ucmr.umu.se//NONSGML kigkonsult.se iCalcreator 2.29.29
 //
CALSCALE:GREGORIAN
METHOD:PUBLISH
UID:4c35217a-7542-4799-84c7-33f4375348b9
X-WR-CALNAME:JCal Pro Calendar
X-WR-CALDESC:Your online events calendar
X-WR-TIMEZONE:Europe/Stockholm
BEGIN:VTIMEZONE
TZID:Europe/Stockholm
BEGIN:STANDARD
TZNAME:CET
DTSTART:20251026T030000
TZOFFSETFROM:+0200
TZOFFSETTO:+0100
RDATE:20261025T030000
END:STANDARD
BEGIN:DAYLIGHT
TZNAME:CEST
DTSTART:20260329T020000
TZOFFSETFROM:+0100
TZOFFSETTO:+0200
RDATE:20270328T020000
END:DAYLIGHT
END:VTIMEZONE
BEGIN:VEVENT
UID:20191010T073000UTC-2b5d4a@http://www.ucmr.umu.se/
DTSTAMP:20260419T194051Z
CATEGORIES:General
DESCRIPTION:<p>Date and Time: 10-11 October 2019<br />Biomedicum Karolinska
  Institutet\, Solnavägen\, Stockholm</p>\n<p>The 2nd CryoNet Annual Sympos
 ium will highlight the&nbsp\;latest discoveries in protein-nucleic acid co
 mplexes along with&nbsp\;a view to the future of cryo-EM. Alongside presen
 tations on important&nbsp\;biological results will be exciting methodologi
 cal advances emphasizing&nbsp\;that cryo-EM is still in a major growth pha
 se.</p>\n<p>Students and postdocs are encouraged to apply to give talks an
 d poster presentations</p>\n<p>CryoNet is funded by the Knut and Alice Wal
 lenberg Foundation and the Novo Nordisk Foundation</p>\n<p>Invited Speaker
 s:</p>\n<p><strong><a href='https://www.scilifelab.se/events/postrevolutio
 n-cryo-em-reaping-the-benefits-while-looking-to-the-future/' target='_blan
 k' rel='noopener'>Preliminary programme and registration on the webpage of
  SciLifeLab</a></strong></p>
DTSTART;TZID=Europe/Stockholm:20191010T093000
DTEND;TZID=Europe/Stockholm:20191010T093000
SUMMARY:2nd CryoNet Symposium 'Postrevolution Cryo-EM: Reaping the benefits
  while looking to the future'
URL:http://www.ucmr.umu.se/about-ucmr/events/162-ucmr-calendar/165-general/
 581-2nd-cryonet-symposium-postrevolution-cryo-em-reaping-the-benefits-whil
 e-looking-to-the-future.html
X-ALT-DESC;FMTTYPE=TEXT/HTML:<p>Date and Time: 10-11 October 2019<br />Biom
 edicum Karolinska Institutet\, Solnavägen\, Stockholm</p>\n<p>The 2nd Cryo
 Net Annual Symposium will highlight the&nbsp\;latest discoveries in protei
 n-nucleic acid complexes along with&nbsp\;a view to the future of cryo-EM.
  Alongside presentations on important&nbsp\;biological results will be exc
 iting methodological advances emphasizing&nbsp\;that cryo-EM is still in a
  major growth phase.</p>\n<p>Students and postdocs are encouraged to apply
  to give talks and poster presentations</p>\n<p>CryoNet is funded by the K
 nut and Alice Wallenberg Foundation and the Novo Nordisk Foundation</p>\n<
 p>Invited Speakers:</p>\n<p><strong><a href='https://www.scilifelab.se/eve
 nts/postrevolution-cryo-em-reaping-the-benefits-while-looking-to-the-futur
 e/' target='_blank' rel='noopener'>Preliminary programme and registration 
 on the webpage of SciLifeLab</a></strong></p>
END:VEVENT
END:VCALENDAR
