BEGIN:VCALENDAR
VERSION:2.0
PRODID:-//http://www.ucmr.umu.se//NONSGML kigkonsult.se iCalcreator 2.29.29
 //
CALSCALE:GREGORIAN
METHOD:PUBLISH
UID:3348d65e-33f7-40ae-b6dc-84fec3490bc0
X-WR-CALNAME:JCal Pro Calendar
X-WR-CALDESC:Your online events calendar
X-WR-TIMEZONE:Europe/Stockholm
BEGIN:VTIMEZONE
TZID:Europe/Stockholm
BEGIN:STANDARD
TZNAME:CET
DTSTART:20251026T030000
TZOFFSETFROM:+0200
TZOFFSETTO:+0100
RDATE:20261025T030000
END:STANDARD
BEGIN:DAYLIGHT
TZNAME:CEST
DTSTART:20260329T020000
TZOFFSETFROM:+0100
TZOFFSETTO:+0200
RDATE:20270328T020000
END:DAYLIGHT
END:VTIMEZONE
BEGIN:VEVENT
UID:ece66d5eabfd4b2f1bc18185e940a5d9
DTSTAMP:20260424T214314Z
CATEGORIES:Seminar
DESCRIPTION:talk by:<br /><strong>Sven Enerbäck</strong><br />University of
  Gothenburg<br /><br />place: Lecture hall Betula\, Building 6M
DTSTART;TZID=Europe/Stockholm:20091120T143000
DTEND;TZID=Europe/Stockholm:20091120T153000
SUMMARY:Brown adipose tissue of mice and man
URL:http://www.ucmr.umu.se/about-ucmr/events/162-ucmr-calendar/164-seminar/
 15-brown-adipose-tissue-of-mice-and-man.html
X-ALT-DESC;FMTTYPE=TEXT/HTML:talk by:<br /><strong>Sven Enerbäck</strong><b
 r />University of Gothenburg<br /><br />place: Lecture hall Betula\, Build
 ing 6M
END:VEVENT
END:VCALENDAR
